BEGIN:VCALENDAR
PRODID:-//eluceo/ical//2.0/EN
VERSION:2.0
CALSCALE:GREGORIAN
BEGIN:VEVENT
UID:95aec25bde1e0401be8e7d3c29228d7c
DTSTAMP:20260420T145410Z
SUMMARY:Lunch Hotel Steffani
DESCRIPTION:Web stranica: http://www.steffani.ch\nGovornik(ci): Gregor Kauf
 mann\;Flechtenwelt Halbinsel Chaste
URL:https://rotary-stmoritz.ch/bs/agenda/show/149502
DTSTART;TZID=Europe/Zurich:20220927T121500
DTEND;TZID=Europe/Zurich:20220927T140000
LOCATION:Hotel Steffani
CATEGORIES:Rotary
END:VEVENT
BEGIN:VTIMEZONE
TZID:Europe/Zurich
BEGIN:DAYLIGHT
DTSTART:20220927T121500
TZNAME:CEST
TZOFFSETTO:+0200
TZOFFSETFROM:+0200
END:DAYLIGHT
END:VTIMEZONE
END:VCALENDAR
