BEGIN:VCALENDAR
PRODID:-//eluceo/ical//2.0/EN
VERSION:2.0
CALSCALE:GREGORIAN
BEGIN:VEVENT
UID:b4d2f1d3367280bc433adcb53d5e3493
DTSTAMP:20260420T144542Z
SUMMARY:Lunch Hotel Steffani
DESCRIPTION:Web stranica: http://www.steffani.ch\nGovornik(ci): Plauderlunc
 h
URL:https://rotary-stmoritz.ch/bs/agenda/show/149503
DTSTART;TZID=Europe/Zurich:20221004T121500
DTEND;TZID=Europe/Zurich:20221004T140000
LOCATION:Hotel Steffani
CATEGORIES:Rotary
END:VEVENT
BEGIN:VTIMEZONE
TZID:Europe/Zurich
BEGIN:DAYLIGHT
DTSTART:20221004T121500
TZNAME:CEST
TZOFFSETTO:+0200
TZOFFSETFROM:+0200
END:DAYLIGHT
END:VTIMEZONE
END:VCALENDAR
