BEGIN:VCALENDAR
PRODID:-//eluceo/ical//2.0/EN
VERSION:2.0
CALSCALE:GREGORIAN
BEGIN:VEVENT
UID:b3ba5028bea6e6722fbc0bbcf6164db8
DTSTAMP:20260424T025254Z
SUMMARY:Lunch - Kulm Hotel St. Moritz
DESCRIPTION:Webseite: https://www.kulm.com/de/\nReferenten/innen: Christian
  Rathgeb - Alt Regierungsmitglied Kanton GraubündenFazit aus elf Jahren R
 egierungsrat
URL:https://rotary-stmoritz.ch/de/agenda/show/150586
DTSTART;TZID=Europe/Zurich:20230404T121500
DTEND;TZID=Europe/Zurich:20230404T140000
LOCATION:Kulm Hotel St. Moritz
CATEGORIES:Rotary
END:VEVENT
BEGIN:VTIMEZONE
TZID:Europe/Zurich
BEGIN:DAYLIGHT
DTSTART:20230404T121500
TZNAME:CEST
TZOFFSETTO:+0200
TZOFFSETFROM:+0200
END:DAYLIGHT
END:VTIMEZONE
END:VCALENDAR
