BEGIN:VCALENDAR
PRODID:-//eluceo/ical//2.0/EN
VERSION:2.0
CALSCALE:GREGORIAN
BEGIN:VEVENT
UID:34561c3a14be3e6f4532744058f1ced2
DTSTAMP:20260422T103521Z
SUMMARY:Gästeapero - Kulm Country Club
DESCRIPTION:Webseite: https://www.kulm.com/de/
URL:https://rotary-stmoritz.ch/de/agenda/show/153525
DTSTART;TZID=Europe/Zurich:20221222T173000
DTEND;TZID=Europe/Zurich:20221222T183000
LOCATION:Kulm Hotel St. Moritz
CATEGORIES:Rotary
END:VEVENT
BEGIN:VTIMEZONE
TZID:Europe/Zurich
BEGIN:STANDARD
DTSTART:20221222T173000
TZNAME:CET
TZOFFSETTO:+0100
TZOFFSETFROM:+0100
END:STANDARD
END:VTIMEZONE
END:VCALENDAR
