BEGIN:VCALENDAR
PRODID:-//eluceo/ical//2.0/EN
VERSION:2.0
CALSCALE:GREGORIAN
BEGIN:VEVENT
UID:cf66f59f499796188a7533e6a30ec184
DTSTAMP:20260424T011754Z
SUMMARY:Lunch Hotel Steffani
DESCRIPTION:Webseite: http://www.steffani.ch
URL:https://rotary-stmoritz.ch/de/agenda/show/158367
DTSTART;TZID=Europe/Zurich:20230530T121500
DTEND;TZID=Europe/Zurich:20230530T140000
LOCATION:Hotel Steffani
CATEGORIES:Rotary
END:VEVENT
BEGIN:VTIMEZONE
TZID:Europe/Zurich
BEGIN:DAYLIGHT
DTSTART:20230530T121500
TZNAME:CEST
TZOFFSETTO:+0200
TZOFFSETFROM:+0200
END:DAYLIGHT
END:VTIMEZONE
END:VCALENDAR
