BEGIN:VCALENDAR
PRODID:-//eluceo/ical//2.0/EN
VERSION:2.0
CALSCALE:GREGORIAN
BEGIN:VEVENT
UID:d123d0cea185be12a08bfd30e1401766
DTSTAMP:20260423T232158Z
SUMMARY:Boccia Turnier
DESCRIPTION:Referenten/innen: Traditionelles Boccia Turnier in Le Prese - o
 rganisiert durch Rot. Dino Menghini
URL:https://rotary-stmoritz.ch/de/agenda/show/158374
DTSTART;TZID=Europe/Zurich:20230630T190000
DTEND;TZID=Europe/Zurich:20230630T230000
LOCATION:Le Prese\, Val Poschiavo
CATEGORIES:Rotary
END:VEVENT
BEGIN:VTIMEZONE
TZID:Europe/Zurich
BEGIN:DAYLIGHT
DTSTART:20230630T190000
TZNAME:CEST
TZOFFSETTO:+0200
TZOFFSETFROM:+0200
END:DAYLIGHT
END:VTIMEZONE
END:VCALENDAR
