BEGIN:VCALENDAR
PRODID:-//eluceo/ical//2.0/EN
VERSION:2.0
CALSCALE:GREGORIAN
BEGIN:VEVENT
UID:c26172d44aa232ff1a6708da7b1b13e9
DTSTAMP:20260424T100717Z
SUMMARY:Lunch Hotel Grace La Margna
DESCRIPTION:Referenten/innen: 
URL:https://rotary-stmoritz.ch/de/agenda/show/212624
DTSTART;TZID=Europe/Zurich:20261110T121500
DTEND;TZID=Europe/Zurich:20261110T140000
LOCATION:Hotel Grace La Margna\, Via Serlas 5\, 7500 St. Moritz\, Schweiz
CATEGORIES:Rotary
END:VEVENT
BEGIN:VTIMEZONE
TZID:Europe/Zurich
BEGIN:STANDARD
DTSTART:20261110T121500
TZNAME:CET
TZOFFSETTO:+0100
TZOFFSETFROM:+0100
END:STANDARD
END:VTIMEZONE
END:VCALENDAR
