BEGIN:VCALENDAR
PRODID:-//eluceo/ical//2.0/EN
VERSION:2.0
CALSCALE:GREGORIAN
BEGIN:VEVENT
UID:b80f1f4473507baa00cb7ed1d57072b7
DTSTAMP:20260424T100358Z
SUMMARY:Lunch Hotel Grace La Margna
DESCRIPTION:Referenten/innen: 
URL:https://rotary-stmoritz.ch/de/agenda/show/212627
DTSTART;TZID=Europe/Zurich:20261201T121500
DTEND;TZID=Europe/Zurich:20261201T121500
LOCATION:Hotel Grace La Margna\, Via Serlas 5\, 7500 St. Moritz\, Schweiz
CATEGORIES:Rotary
END:VEVENT
BEGIN:VTIMEZONE
TZID:Europe/Zurich
BEGIN:STANDARD
DTSTART:20261201T121500
TZNAME:CET
TZOFFSETTO:+0100
TZOFFSETFROM:+0100
END:STANDARD
END:VTIMEZONE
END:VCALENDAR
