BEGIN:VCALENDAR
PRODID:-//eluceo/ical//2.0/EN
VERSION:2.0
CALSCALE:GREGORIAN
BEGIN:VEVENT
UID:d59839a56e101e72c2655801e881a52c
DTSTAMP:20260421T144825Z
SUMMARY:Lunch Hotel Steffani
DESCRIPTION:Website: http://www.steffani.ch\nSpeaker(s): Dr. Erik Grossen\,
  Roboter-Chirurgie
URL:https://rotary-stmoritz.ch/en/agenda/show/201054
DTSTART;TZID=Europe/Zurich:20260224T121500
DTEND;TZID=Europe/Zurich:20260224T140000
LOCATION:Hotel Steffani\, Via Traunter Plazzas 6\, 7500 St. Moritz
CATEGORIES:Rotary
END:VEVENT
BEGIN:VTIMEZONE
TZID:Europe/Zurich
BEGIN:STANDARD
DTSTART:20260224T121500
TZNAME:CET
TZOFFSETTO:+0100
TZOFFSETFROM:+0100
END:STANDARD
END:VTIMEZONE
END:VCALENDAR
