BEGIN:VCALENDAR
PRODID:-//eluceo/ical//2.0/EN
VERSION:2.0
CALSCALE:GREGORIAN
BEGIN:VEVENT
UID:824531bb089f180a9136c35bb479f08b
DTSTAMP:20260421T132340Z
SUMMARY:Gäste-Apéro / Guest aperitif
DESCRIPTION:Website: http://www.steffani.ch
URL:https://rotary-stmoritz.ch/en/agenda/show/201260
DTSTART;TZID=Europe/Zurich:20260227T173000
DTEND;TZID=Europe/Zurich:20260227T183000
LOCATION:Hotel Steffani\, Via Traunter Plazzas 6\, 7500 St. Moritz
CATEGORIES:Rotary
END:VEVENT
BEGIN:VTIMEZONE
TZID:Europe/Zurich
BEGIN:STANDARD
DTSTART:20260227T173000
TZNAME:CET
TZOFFSETTO:+0100
TZOFFSETFROM:+0100
END:STANDARD
END:VTIMEZONE
END:VCALENDAR
