BEGIN:VCALENDAR
PRODID:-//eluceo/ical//2.0/EN
VERSION:2.0
CALSCALE:GREGORIAN
BEGIN:VEVENT
UID:7182fee6b44d6dee0f474c04c4493a9d
DTSTAMP:20260420T124349Z
SUMMARY:Lunch Hotel Steffani
DESCRIPTION:Sitio web: http://www.steffani.ch\nOrador(es): 
URL:https://rotary-stmoritz.ch/es/agenda/show/201060
DTSTART;TZID=Europe/Zurich:20260331T121500
DTEND;TZID=Europe/Zurich:20260331T140000
LOCATION:Hotel Steffani\, Via Traunter Plazzas 6\, 7500 St. Moritz
CATEGORIES:Rotary
END:VEVENT
BEGIN:VTIMEZONE
TZID:Europe/Zurich
BEGIN:DAYLIGHT
DTSTART:20260331T121500
TZNAME:CEST
TZOFFSETTO:+0200
TZOFFSETFROM:+0200
END:DAYLIGHT
END:VTIMEZONE
END:VCALENDAR
