BEGIN:VCALENDAR
PRODID:-//eluceo/ical//2.0/EN
VERSION:2.0
CALSCALE:GREGORIAN
BEGIN:VEVENT
UID:9abbe009a805d38492246072e6a45244
DTSTAMP:20260421T082103Z
SUMMARY:Lunch Hotel Steffani
DESCRIPTION:Site internet: http://www.steffani.ch\nConférencier(s): Rot. M
 ario Barblan: Betrachtungen zur Rotary Foundation
URL:https://rotary-stmoritz.ch/fr/agenda/show/167568
DTSTART;TZID=Europe/Zurich:20240611T121500
DTEND;TZID=Europe/Zurich:20240611T140000
LOCATION:Hotel Steffani
CATEGORIES:Rotary
END:VEVENT
BEGIN:VTIMEZONE
TZID:Europe/Zurich
BEGIN:DAYLIGHT
DTSTART:20240611T121500
TZNAME:CEST
TZOFFSETTO:+0200
TZOFFSETFROM:+0200
END:DAYLIGHT
END:VTIMEZONE
END:VCALENDAR
