BEGIN:VCALENDAR
PRODID:-//eluceo/ical//2.0/EN
VERSION:2.0
CALSCALE:GREGORIAN
BEGIN:VEVENT
UID:0d100f9e9d0d139a4d0da5f07581b166
DTSTAMP:20260423T114650Z
SUMMARY:Lunch Grace La Margna
DESCRIPTION:Fyrirlesari(ar): Plauderlunch
URL:https://rotary-stmoritz.ch/is/agenda/show/184354
DTSTART;TZID=Europe/Zurich:20241001T121500
DTEND;TZID=Europe/Zurich:20241001T140000
LOCATION:Hotel Grace La Margna
CATEGORIES:Rotary
END:VEVENT
BEGIN:VTIMEZONE
TZID:Europe/Zurich
BEGIN:DAYLIGHT
DTSTART:20241001T121500
TZNAME:CEST
TZOFFSETTO:+0200
TZOFFSETFROM:+0200
END:DAYLIGHT
END:VTIMEZONE
END:VCALENDAR
