BEGIN:VCALENDAR
PRODID:-//eluceo/ical//2.0/EN
VERSION:2.0
CALSCALE:GREGORIAN
BEGIN:VEVENT
UID:24939797da50e31a3d356d4df3b2d4a6
DTSTAMP:20260423T130925Z
SUMMARY:Lunch Grace La Margna
DESCRIPTION:Fyrirlesari(ar): Rot. Giachem Bott\; Witze
URL:https://rotary-stmoritz.ch/is/agenda/show/184355
DTSTART;TZID=Europe/Zurich:20241008T121500
DTEND;TZID=Europe/Zurich:20241008T140000
LOCATION:Hotel Grace La Margna
CATEGORIES:Rotary
END:VEVENT
BEGIN:VTIMEZONE
TZID:Europe/Zurich
BEGIN:DAYLIGHT
DTSTART:20241008T121500
TZNAME:CEST
TZOFFSETTO:+0200
TZOFFSETFROM:+0200
END:DAYLIGHT
END:VTIMEZONE
END:VCALENDAR
