BEGIN:VCALENDAR
PRODID:-//eluceo/ical//2.0/EN
VERSION:2.0
CALSCALE:GREGORIAN
BEGIN:VEVENT
UID:d1dd154b406b002a45a6a8f5562a5782
DTSTAMP:20260423T154752Z
SUMMARY:Lunch Grace La Margna
DESCRIPTION:Fyrirlesari(ar): Plauderlunch
URL:https://rotary-stmoritz.ch/is/agenda/show/184357
DTSTART;TZID=Europe/Zurich:20241022T121500
DTEND;TZID=Europe/Zurich:20241022T140000
LOCATION:Hotel Grace La Margna
CATEGORIES:Rotary
END:VEVENT
BEGIN:VTIMEZONE
TZID:Europe/Zurich
BEGIN:DAYLIGHT
DTSTART:20241022T121500
TZNAME:CEST
TZOFFSETTO:+0200
TZOFFSETFROM:+0200
END:DAYLIGHT
END:VTIMEZONE
END:VCALENDAR
