BEGIN:VCALENDAR
PRODID:-//eluceo/ical//2.0/EN
VERSION:2.0
CALSCALE:GREGORIAN
BEGIN:VEVENT
UID:cd10531e5406778e37c0ede4dbe80b58
DTSTAMP:20260423T185138Z
SUMMARY:Lunch Grace La Margna
DESCRIPTION:Fyrirlesari(ar): Jürg Denoth: Helikopter im Engadin / Lunch mi
 t Partnerinnen
URL:https://rotary-stmoritz.ch/is/agenda/show/184359
DTSTART;TZID=Europe/Zurich:20241105T121500
DTEND;TZID=Europe/Zurich:20241105T140000
LOCATION:Hotel Grace La Margna
CATEGORIES:Rotary
END:VEVENT
BEGIN:VTIMEZONE
TZID:Europe/Zurich
BEGIN:STANDARD
DTSTART:20241105T121500
TZNAME:CET
TZOFFSETTO:+0100
TZOFFSETFROM:+0100
END:STANDARD
END:VTIMEZONE
END:VCALENDAR
