BEGIN:VCALENDAR
PRODID:-//eluceo/ical//2.0/EN
VERSION:2.0
CALSCALE:GREGORIAN
BEGIN:VEVENT
UID:04da7510782a7cc39364155e9305500d
DTSTAMP:20260423T200645Z
SUMMARY:Lunch Grace La Margna
DESCRIPTION:Fyrirlesari(ar): Magdalena Wallhoff: Fischzucht einer Schweizer
 familie - International
URL:https://rotary-stmoritz.ch/is/agenda/show/184360
DTSTART;TZID=Europe/Zurich:20241112T121500
DTEND;TZID=Europe/Zurich:20241112T140000
LOCATION:Hotel Grace La Margna
CATEGORIES:Rotary
END:VEVENT
BEGIN:VTIMEZONE
TZID:Europe/Zurich
BEGIN:STANDARD
DTSTART:20241112T121500
TZNAME:CET
TZOFFSETTO:+0100
TZOFFSETFROM:+0100
END:STANDARD
END:VTIMEZONE
END:VCALENDAR
