BEGIN:VCALENDAR
PRODID:-//eluceo/ical//2.0/EN
VERSION:2.0
CALSCALE:GREGORIAN
BEGIN:VEVENT
UID:2f514e2aa445e0b0c53ade37b218a22f
DTSTAMP:20260423T142938Z
SUMMARY:Gästeapero - Kulm Country Club - FÄLLT AUS!
DESCRIPTION:Sito web: https://www.kulm.com/de/
URL:https://rotary-stmoritz.ch/it/agenda/show/133795
DTSTART;TZID=Europe/Zurich:20220225T173000
DTEND;TZID=Europe/Zurich:20220225T183000
LOCATION:Kulm Hotel St. Moritz
CATEGORIES:Rotary
END:VEVENT
BEGIN:VTIMEZONE
TZID:Europe/Zurich
BEGIN:STANDARD
DTSTART:20220225T173000
TZNAME:CET
TZOFFSETTO:+0100
TZOFFSETFROM:+0100
END:STANDARD
END:VTIMEZONE
END:VCALENDAR
