BEGIN:VCALENDAR
PRODID:-//eluceo/ical//2.0/EN
VERSION:2.0
CALSCALE:GREGORIAN
BEGIN:VEVENT
UID:dc8e5e7e067317ecc09c1ac28c9f8c0d
DTSTAMP:20260421T101252Z
SUMMARY:Gäste-Apéro / Guest aperitif
DESCRIPTION:Sito web: http://www.steffani.ch
URL:https://rotary-stmoritz.ch/it/agenda/show/193781
DTSTART;TZID=Europe/Zurich:20250815T173000
DTEND;TZID=Europe/Zurich:20250815T183000
LOCATION:Hotel Steffani\, Via Traunter Plazzas 6\, 7500 St. Moritz
CATEGORIES:Rotary
END:VEVENT
BEGIN:VTIMEZONE
TZID:Europe/Zurich
BEGIN:DAYLIGHT
DTSTART:20250815T173000
TZNAME:CEST
TZOFFSETTO:+0200
TZOFFSETFROM:+0200
END:DAYLIGHT
END:VTIMEZONE
END:VCALENDAR
