BEGIN:VCALENDAR
PRODID:-//eluceo/ical//2.0/EN
VERSION:2.0
CALSCALE:GREGORIAN
BEGIN:VEVENT
UID:17c140d9ae1fc44fc8aef04d16f3ba26
DTSTAMP:20260422T200525Z
SUMMARY:Lunch Hotel Grace La Margna
DESCRIPTION:Relatore/i: 
URL:https://rotary-stmoritz.ch/it/agenda/show/212563
DTSTART;TZID=Europe/Zurich:20261020T121500
DTEND;TZID=Europe/Zurich:20261020T140000
LOCATION:Hotel Grace La Margna\, Via Serlas 5\, 7500 St. Moritz\, Schweiz
CATEGORIES:Rotary
END:VEVENT
BEGIN:VTIMEZONE
TZID:Europe/Zurich
BEGIN:DAYLIGHT
DTSTART:20261020T121500
TZNAME:CEST
TZOFFSETTO:+0200
TZOFFSETFROM:+0200
END:DAYLIGHT
END:VTIMEZONE
END:VCALENDAR
