BEGIN:VCALENDAR
PRODID:-//eluceo/ical//2.0/EN
VERSION:2.0
CALSCALE:GREGORIAN
BEGIN:VEVENT
UID:1b091f49ac7a94cd9bc72760cc73d12f
DTSTAMP:20260422T171940Z
SUMMARY:Lunch Hotel Grace La Margna
DESCRIPTION:Relatore/i: 
URL:https://rotary-stmoritz.ch/it/agenda/show/212566
DTSTART;TZID=Europe/Zurich:20261027T121500
DTEND;TZID=Europe/Zurich:20261027T140000
LOCATION:Hotel Grace La Margna\, Via Serlas 5\, 7500 St. Moritz\, Schweiz
CATEGORIES:Rotary
END:VEVENT
BEGIN:VTIMEZONE
TZID:Europe/Zurich
BEGIN:STANDARD
DTSTART:20261027T121500
TZNAME:CET
TZOFFSETTO:+0100
TZOFFSETFROM:+0100
END:STANDARD
END:VTIMEZONE
END:VCALENDAR
