BEGIN:VCALENDAR
PRODID:-//eluceo/ical//2.0/EN
VERSION:2.0
CALSCALE:GREGORIAN
BEGIN:VEVENT
UID:d083f10eb75c7df02e2331d73e055228
DTSTAMP:20260420T124511Z
SUMMARY:Lunch Hotel Steffani
DESCRIPTION:Website: http://www.steffani.ch\nSprekers: Philipp Rösler\, eh
 em. Bundeswirtschaftsminister 
URL:https://rotary-stmoritz.ch/nl/agenda/show/201173
DTSTART;TZID=Europe/Zurich:20260602T121500
DTEND;TZID=Europe/Zurich:20260602T140000
LOCATION:Hotel Steffani\, Via Traunter Plazzas 6\, 7500 St. Moritz
CATEGORIES:Rotary
END:VEVENT
BEGIN:VTIMEZONE
TZID:Europe/Zurich
BEGIN:DAYLIGHT
DTSTART:20260602T121500
TZNAME:CEST
TZOFFSETTO:+0200
TZOFFSETFROM:+0200
END:DAYLIGHT
END:VTIMEZONE
END:VCALENDAR
