BEGIN:VCALENDAR
PRODID:-//eluceo/ical//2.0/EN
VERSION:2.0
CALSCALE:GREGORIAN
BEGIN:VEVENT
UID:75074b98ce848ae8ca0288f7d54c4bfc
DTSTAMP:20260424T103738Z
SUMMARY:Lunch im Hotel Steffani
DESCRIPTION:Club-Meeting von 12.15 bis 14.00 Uhr
URL:https://rotary-stmoritz.ch/nl/agenda/show/27248
DTSTART;TZID=Europe/Zurich:20121106T121500
DTEND;TZID=Europe/Zurich:20121106T121500
LOCATION:Hotel Steffani
CATEGORIES:Rotary
END:VEVENT
BEGIN:VTIMEZONE
TZID:Europe/Zurich
BEGIN:STANDARD
DTSTART:20121106T121500
TZNAME:CET
TZOFFSETTO:+0100
TZOFFSETFROM:+0100
END:STANDARD
END:VTIMEZONE
END:VCALENDAR
