BEGIN:VCALENDAR
PRODID:-//eluceo/ical//2.0/EN
VERSION:2.0
CALSCALE:GREGORIAN
BEGIN:VEVENT
UID:170fff831d23a94a236715ea8e0038aa
DTSTAMP:20260424T104102Z
SUMMARY:Apéro im Hotel Carlton
DESCRIPTION:Gästeapéro 17:30 bis 18:30
URL:https://rotary-stmoritz.ch/nl/agenda/show/27274
DTSTART;TZID=Europe/Zurich:20121214T173000
DTEND;TZID=Europe/Zurich:20121214T173000
LOCATION:Hotel Carlton
CATEGORIES:Rotary
END:VEVENT
BEGIN:VTIMEZONE
TZID:Europe/Zurich
BEGIN:STANDARD
DTSTART:20121214T173000
TZNAME:CET
TZOFFSETTO:+0100
TZOFFSETFROM:+0100
END:STANDARD
END:VTIMEZONE
END:VCALENDAR
