BEGIN:VCALENDAR
PRODID:-//eluceo/ical//2.0/EN
VERSION:2.0
CALSCALE:GREGORIAN
BEGIN:VEVENT
UID:bc7805da15d6c8d47d8825cf9de5abd6
DTSTAMP:20260424T104244Z
SUMMARY:Apéro im Hotel Carlton
DESCRIPTION:Gästeapéro 17:30 bis 18:30
URL:https://rotary-stmoritz.ch/nl/agenda/show/27277
DTSTART;TZID=Europe/Zurich:20130104T173000
DTEND;TZID=Europe/Zurich:20130104T173000
LOCATION:Hotel Carlton
CATEGORIES:Rotary
END:VEVENT
BEGIN:VTIMEZONE
TZID:Europe/Zurich
BEGIN:STANDARD
DTSTART:20130104T173000
TZNAME:CET
TZOFFSETTO:+0100
TZOFFSETFROM:+0100
END:STANDARD
END:VTIMEZONE
END:VCALENDAR
