BEGIN:VCALENDAR
PRODID:-//eluceo/ical//2.0/EN
VERSION:2.0
CALSCALE:GREGORIAN
BEGIN:VEVENT
UID:abf140938c9e01d54361b152d5fa4121
DTSTAMP:20260424T211733Z
SUMMARY:Lunch Hotel Steffani
DESCRIPTION:Webbplats: http://www.steffani.ch\nTalare: Joggi Cadonau\;SVA G
 raubünden - Aufgaben und Finanzierung
URL:https://rotary-stmoritz.ch/sv/agenda/show/149507
DTSTART;TZID=Europe/Zurich:20221129T121500
DTEND;TZID=Europe/Zurich:20221129T140000
LOCATION:Hotel Steffani
CATEGORIES:Rotary
END:VEVENT
BEGIN:VTIMEZONE
TZID:Europe/Zurich
BEGIN:STANDARD
DTSTART:20221129T121500
TZNAME:CET
TZOFFSETTO:+0100
TZOFFSETFROM:+0100
END:STANDARD
END:VTIMEZONE
END:VCALENDAR
