BEGIN:VCALENDAR
PRODID:-//eluceo/ical//2.0/EN
VERSION:2.0
CALSCALE:GREGORIAN
BEGIN:VEVENT
UID:be63064add57d6c344df64de61595ac2
DTSTAMP:20260421T172844Z
SUMMARY:Gästeapero - ALTITUDE BAR IM KULM HOTEL
DESCRIPTION:Webbplats: https://www.kulm.com/de/
URL:https://rotary-stmoritz.ch/sv/agenda/show/153533
DTSTART;TZID=Europe/Zurich:20230216T173000
DTEND;TZID=Europe/Zurich:20230216T183000
LOCATION:Kulm Hotel St. Moritz
CATEGORIES:Rotary
END:VEVENT
BEGIN:VTIMEZONE
TZID:Europe/Zurich
BEGIN:STANDARD
DTSTART:20230216T173000
TZNAME:CET
TZOFFSETTO:+0100
TZOFFSETFROM:+0100
END:STANDARD
END:VTIMEZONE
END:VCALENDAR
