BEGIN:VCALENDAR
PRODID:-//eluceo/ical//2.0/EN
VERSION:2.0
CALSCALE:GREGORIAN
BEGIN:VEVENT
UID:905c9f5bbdbbe635fd8e011f363a2088
DTSTAMP:20260424T164608Z
SUMMARY:Lunch Hotel Steffani
DESCRIPTION:Webbplats: http://www.steffani.ch\nTalare: Christian Bühler - 
 Sohn des Rega Gründers\;Ungewöhnliche Rega-Einsätze
URL:https://rotary-stmoritz.ch/sv/agenda/show/158360
DTSTART;TZID=Europe/Zurich:20230411T121500
DTEND;TZID=Europe/Zurich:20230411T140000
LOCATION:Hotel Steffani
CATEGORIES:Rotary
END:VEVENT
BEGIN:VTIMEZONE
TZID:Europe/Zurich
BEGIN:DAYLIGHT
DTSTART:20230411T121500
TZNAME:CEST
TZOFFSETTO:+0200
TZOFFSETFROM:+0200
END:DAYLIGHT
END:VTIMEZONE
END:VCALENDAR
