BEGIN:VCALENDAR
PRODID:-//eluceo/ical//2.0/EN
VERSION:2.0
CALSCALE:GREGORIAN
BEGIN:VEVENT
UID:102fb9562e34594c8e473e41c1c88d1e
DTSTAMP:20260424T164205Z
SUMMARY:Lunch Hotel Steffani
DESCRIPTION:Webbplats: http://www.steffani.ch
URL:https://rotary-stmoritz.ch/sv/agenda/show/158361
DTSTART;TZID=Europe/Zurich:20230418T121500
DTEND;TZID=Europe/Zurich:20230418T140000
LOCATION:Hotel Steffani
CATEGORIES:Rotary
END:VEVENT
BEGIN:VTIMEZONE
TZID:Europe/Zurich
BEGIN:DAYLIGHT
DTSTART:20230418T121500
TZNAME:CEST
TZOFFSETTO:+0200
TZOFFSETFROM:+0200
END:DAYLIGHT
END:VTIMEZONE
END:VCALENDAR
