BEGIN:VCALENDAR
PRODID:-//eluceo/ical//2.0/EN
VERSION:2.0
CALSCALE:GREGORIAN
BEGIN:VEVENT
UID:1711387b42806b4d7624d5621e38616c
DTSTAMP:20260425T205946Z
SUMMARY:Lunch Hotel Steffani
DESCRIPTION:Webbplats: http://www.steffani.ch
URL:https://rotary-stmoritz.ch/sv/agenda/show/163111
DTSTART;TZID=Europe/Zurich:20231003T121500
DTEND;TZID=Europe/Zurich:20231003T140000
LOCATION:Hotel Steffani
CATEGORIES:Rotary
END:VEVENT
BEGIN:VTIMEZONE
TZID:Europe/Zurich
BEGIN:DAYLIGHT
DTSTART:20231003T121500
TZNAME:CEST
TZOFFSETTO:+0200
TZOFFSETFROM:+0200
END:DAYLIGHT
END:VTIMEZONE
END:VCALENDAR
