BEGIN:VCALENDAR
PRODID:-//eluceo/ical//2.0/EN
VERSION:2.0
CALSCALE:GREGORIAN
BEGIN:VEVENT
UID:e08fe9760ceeb7c566818ec2d388e3d3
DTSTAMP:20260424T095000Z
SUMMARY:Familien-Arbeitstag in S-chanf
DESCRIPTION:Talare: 
URL:https://rotary-stmoritz.ch/sv/agenda/show/184344
DTSTART;TZID=Europe/Zurich:20240928T083000
DTEND;TZID=Europe/Zurich:20240928T153000
LOCATION:Alp Griatschouls\, S-chanf
CATEGORIES:Rotary
END:VEVENT
BEGIN:VTIMEZONE
TZID:Europe/Zurich
BEGIN:DAYLIGHT
DTSTART:20240928T083000
TZNAME:CEST
TZOFFSETTO:+0200
TZOFFSETFROM:+0200
END:DAYLIGHT
END:VTIMEZONE
END:VCALENDAR
