BEGIN:VCALENDAR
PRODID:-//eluceo/ical//2.0/EN
VERSION:2.0
CALSCALE:GREGORIAN
BEGIN:VEVENT
UID:dc57ac54601d6cd281af5992d19aa2dd
DTSTAMP:20260421T093903Z
SUMMARY:Lunch Hotel Steffani
DESCRIPTION:Webbplats: http://www.steffani.ch\nTalare: Plauderlunch
URL:https://rotary-stmoritz.ch/sv/agenda/show/201058
DTSTART;TZID=Europe/Zurich:20260324T121500
DTEND;TZID=Europe/Zurich:20260324T140000
LOCATION:Hotel Steffani\, Via Traunter Plazzas 6\, 7500 St. Moritz
CATEGORIES:Rotary
END:VEVENT
BEGIN:VTIMEZONE
TZID:Europe/Zurich
BEGIN:STANDARD
DTSTART:20260324T121500
TZNAME:CET
TZOFFSETTO:+0100
TZOFFSETFROM:+0100
END:STANDARD
END:VTIMEZONE
END:VCALENDAR
