BEGIN:VCALENDAR
PRODID:-//eluceo/ical//2.0/EN
VERSION:2.0
CALSCALE:GREGORIAN
BEGIN:VEVENT
UID:ab8a4a469d6971310e741aba7755d4f3
DTSTAMP:20260422T103213Z
SUMMARY:Lunch
DESCRIPTION:Talare: Plauderlunch und BITTE Apero 12.03. beachten
URL:https://rotary-stmoritz.ch/sv/agenda/show/201059
DTSTART;TZID=Europe/Zurich:20260310T121500
DTEND;TZID=Europe/Zurich:20260310T140000
LOCATION:Hotel Steffani\, Via Traunter Plazzas 6\, 7500 St. Moritz
CATEGORIES:Rotary
END:VEVENT
BEGIN:VTIMEZONE
TZID:Europe/Zurich
BEGIN:STANDARD
DTSTART:20260310T121500
TZNAME:CET
TZOFFSETTO:+0100
TZOFFSETFROM:+0100
END:STANDARD
END:VTIMEZONE
END:VCALENDAR
