BEGIN:VCALENDAR
PRODID:-//eluceo/ical//2.0/EN
VERSION:2.0
CALSCALE:GREGORIAN
BEGIN:VEVENT
UID:b4f62166ae1a271f8b6235ee108a89d3
DTSTAMP:20260423T090320Z
SUMMARY:Lunch 
DESCRIPTION:Club-Meeting von 12.15 bis 14.00 Uhr\nTalare: Franco Giovanoli\
 ;\nWM 2017\n
URL:https://rotary-stmoritz.ch/sv/agenda/show/64997
DTSTART;TZID=Europe/Zurich:20160712T121500
DTEND;TZID=Europe/Zurich:20160712T140000
LOCATION:Hotel Suvretta House
CATEGORIES:Rotary
END:VEVENT
BEGIN:VTIMEZONE
TZID:Europe/Zurich
BEGIN:DAYLIGHT
DTSTART:20160712T121500
TZNAME:CEST
TZOFFSETTO:+0200
TZOFFSETFROM:+0200
END:DAYLIGHT
END:VTIMEZONE
END:VCALENDAR
