BEGIN:VCALENDAR
PRODID:-//eluceo/ical//2.0/EN
VERSION:2.0
CALSCALE:GREGORIAN
BEGIN:VEVENT
UID:ddcd9bfff39ef4742ff93282f9a3de65
DTSTAMP:20260423T091249Z
SUMMARY:Lunch
DESCRIPTION:Club-Meeting von 12.15 bis 14.00 Uhr\nTalare: Othmar Lässer\,\
 n“Pro Senectute”
URL:https://rotary-stmoritz.ch/sv/agenda/show/65329
DTSTART;TZID=Europe/Zurich:20161101T121500
DTEND;TZID=Europe/Zurich:20161101T140000
LOCATION:Hotel Steffani
CATEGORIES:Rotary
END:VEVENT
BEGIN:VTIMEZONE
TZID:Europe/Zurich
BEGIN:STANDARD
DTSTART:20161101T121500
TZNAME:CET
TZOFFSETTO:+0100
TZOFFSETFROM:+0100
END:STANDARD
END:VTIMEZONE
END:VCALENDAR
